BEGIN:VCALENDAR
VERSION:2.0
PRODID:-//Geeker&#039;s Digest - ECPv6.15.17.1//NONSGML v1.0//EN
CALSCALE:GREGORIAN
METHOD:PUBLISH
X-WR-CALNAME:Geeker&#039;s Digest
X-ORIGINAL-URL:https://www.geekersdigest.com
X-WR-CALDESC:Events for Geeker&#039;s Digest
REFRESH-INTERVAL;VALUE=DURATION:PT1H
X-Robots-Tag:noindex
X-PUBLISHED-TTL:PT1H
BEGIN:VTIMEZONE
TZID:UTC
BEGIN:STANDARD
TZOFFSETFROM:+0000
TZOFFSETTO:+0000
TZNAME:UTC
DTSTART:20200101T000000
END:STANDARD
END:VTIMEZONE
BEGIN:VEVENT
DTSTART;VALUE=DATE:20211129
DTEND;VALUE=DATE:20211204
DTSTAMP:20260423T024943
CREATED:20210607T202034Z
LAST-MODIFIED:20210607T202034Z
UID:2336-1638144000-1638575999@www.geekersdigest.com
SUMMARY:AWS re:Invent 2021
DESCRIPTION:AWS re:Invent is a learning conference hosted by Amazon Web Services (AWS) for the global cloud computing community. The in-person event features keynote announcements\, training and certification opportunities\, access to 1\,500+ technical sessions\, a partner expo\, after-hours events\, and so much more. \nAWS re:Invent will take place in Las Vegas\, Nevada\, across multiple venues. More information will be released when registration opens June 15.
URL:https://www.geekersdigest.com/event/aws-reinvent-2021/
LOCATION:Las Vegas\, Las Vegas\, NV\, United States
CATEGORIES:Commercial IT,Conventions,Developers,DevOps,Executives,Linux,Open Source Software
ATTACH;FMTTYPE=image/png:https://www.geekersdigest.com/wp-content/uploads/2021/06/aws-reinvent.png
END:VEVENT
BEGIN:VEVENT
DTSTART;VALUE=DATE:20211207
DTEND;VALUE=DATE:20211210
DTSTAMP:20260423T024943
CREATED:20211116T082408Z
LAST-MODIFIED:20211116T082428Z
UID:2651-1638835200-1639094399@www.geekersdigest.com
SUMMARY:apidays Paris 2021
DESCRIPTION:If software is eating the world\, APIs are now eating software. Digital infrastructure is expanding and becoming mandatory – this way forces companies to think in terms of API and develop API mindset. \nApidays is the leading industry tech and business series of conferences in APIs and the programmable economy. \n\n\nAt apidays\, the health and safety of our community\, speakers and partners always comes first. As the COVID-19 situation remains uncertain\, we will continue to present our 2021 events in a digital way. Looking forward to seeing you at our apidays LIVE series.
URL:https://www.geekersdigest.com/event/apidays-paris-2021/
LOCATION:Virtual
CATEGORIES:Cloud,Commercial IT,Conventions,Developers,DevOps,Executives
ATTACH;FMTTYPE=image/png:https://www.geekersdigest.com/wp-content/uploads/2021/11/apidays.png
END:VEVENT
END:VCALENDAR