BEGIN:VCALENDAR
VERSION:2.0
PRODID:-//Geeker&#039;s Digest - ECPv6.15.17.1//NONSGML v1.0//EN
CALSCALE:GREGORIAN
METHOD:PUBLISH
X-WR-CALNAME:Geeker&#039;s Digest
X-ORIGINAL-URL:https://www.geekersdigest.com
X-WR-CALDESC:Events for Geeker&#039;s Digest
REFRESH-INTERVAL;VALUE=DURATION:PT1H
X-Robots-Tag:noindex
X-PUBLISHED-TTL:PT1H
BEGIN:VTIMEZONE
TZID:Asia/Shanghai
BEGIN:STANDARD
TZOFFSETFROM:+0800
TZOFFSETTO:+0800
TZNAME:CST
DTSTART:20210101T000000
END:STANDARD
END:VTIMEZONE
BEGIN:VTIMEZONE
TZID:UTC
BEGIN:STANDARD
TZOFFSETFROM:+0000
TZOFFSETTO:+0000
TZNAME:UTC
DTSTART:20210101T000000
END:STANDARD
END:VTIMEZONE
BEGIN:VEVENT
DTSTART;VALUE=DATE:20220105
DTEND;VALUE=DATE:20220106
DTSTAMP:20260423T010455
CREATED:20211206T064002Z
LAST-MODIFIED:20211206T064002Z
UID:2688-1641340800-1641340800@www.geekersdigest.com
SUMMARY:CES 2022
DESCRIPTION:CES® is the most influential tech event in the world — the proving ground for breakthrough technologies and global innovators. This is where the world's biggest brands do business and meet new partners\, and the sharpest innovators hit the stage. \nThe 2022 edition of the convention is scheduled to be a hybrid event; both on site and digital.
URL:https://www.geekersdigest.com/event/ces-2022/
LOCATION:Las Vegas Convention Center\, 3150 Paradise Rd\, Las Vegas\, NV\, 89109\, United States
CATEGORIES:AI,Commercial IT,Conventions,Executives,Hardware,Mobile Industry
ATTACH;FMTTYPE=image/png:https://www.geekersdigest.com/wp-content/uploads/2021/12/ces-logo.png
END:VEVENT
BEGIN:VEVENT
DTSTART;VALUE=DATE:20220120
DTEND;VALUE=DATE:20220122
DTSTAMP:20260423T010455
CREATED:20211109T154514Z
LAST-MODIFIED:20211109T154514Z
UID:2624-1642636800-1642809599@www.geekersdigest.com
SUMMARY:Postgres Conference Silicon Valley 2022
DESCRIPTION:Postgres Conference Silicon Valley is back and still the largest gathering about People\, Postgres\, Data on the West Coast! An inclusive and equitable event we bring together a best-in-talent combination of speakers\, attendees\, and sponsors to build opportunities for the global Postgres ecosystem.
URL:https://www.geekersdigest.com/event/postgres-conference-silicon-valley-2022/
LOCATION:San Jose Hilton\, 300 Almaden Boulevard\, San Jose\, 95110\, United States
CATEGORIES:Big Data,Cloud,Commercial IT,Conventions,Developers,DevOps,Open Source Software
ATTACH;FMTTYPE=image/png:https://www.geekersdigest.com/wp-content/uploads/2021/11/postgresconf.png
END:VEVENT
END:VCALENDAR