BEGIN:VCALENDAR
VERSION:2.0
PRODID:-//Geeker&#039;s Digest - ECPv6.15.17.1//NONSGML v1.0//EN
CALSCALE:GREGORIAN
METHOD:PUBLISH
X-WR-CALNAME:Geeker&#039;s Digest
X-ORIGINAL-URL:https://www.geekersdigest.com
X-WR-CALDESC:Events for Geeker&#039;s Digest
REFRESH-INTERVAL;VALUE=DURATION:PT1H
X-Robots-Tag:noindex
X-PUBLISHED-TTL:PT1H
BEGIN:VTIMEZONE
TZID:UTC
BEGIN:STANDARD
TZOFFSETFROM:+0000
TZOFFSETTO:+0000
TZNAME:UTC
DTSTART:20200101T000000
END:STANDARD
END:VTIMEZONE
BEGIN:VEVENT
DTSTART;VALUE=DATE:20210607
DTEND;VALUE=DATE:20210612
DTSTAMP:20260423T144107
CREATED:20210607T094922Z
LAST-MODIFIED:20210608T105926Z
UID:2284-1623024000-1623455999@www.geekersdigest.com
SUMMARY:WWDC21
DESCRIPTION:Apple Worldwide Developers Conference is an information technology conference held annually by Apple Inc. The conference is usually held in the San Jose Convention Center in California. Due to the COVID-19 safety restrictions\, WWDC 2020 and WWDC 2021 were and will be presented online. \nWatch the live-stream of the keynote on https://www.apple.com/apple-events/event-stream/ starting at 10 AM PDT (17:00 UTC).
URL:https://www.geekersdigest.com/event/wwdc21/
LOCATION:Virtual
CATEGORIES:Commercial IT,Conventions,Developers,Mobile Industry
ATTACH;FMTTYPE=image/png:https://www.geekersdigest.com/wp-content/uploads/2021/06/2284-wwdc21.png
END:VEVENT
END:VCALENDAR