BEGIN:VCALENDAR
VERSION:2.0
PRODID:-//Geeker&#039;s Digest - ECPv6.15.17.1//NONSGML v1.0//EN
CALSCALE:GREGORIAN
METHOD:PUBLISH
X-ORIGINAL-URL:https://www.geekersdigest.com
X-WR-CALDESC:Events for Geeker&#039;s Digest
REFRESH-INTERVAL;VALUE=DURATION:PT1H
X-Robots-Tag:noindex
X-PUBLISHED-TTL:PT1H
BEGIN:VTIMEZONE
TZID:UTC
BEGIN:STANDARD
TZOFFSETFROM:+0000
TZOFFSETTO:+0000
TZNAME:UTC
DTSTART:20200101T000000
END:STANDARD
END:VTIMEZONE
BEGIN:VEVENT
DTSTART;VALUE=DATE:20210622
DTEND;VALUE=DATE:20210624
DTSTAMP:20260423T144317
CREATED:20210607T120035Z
LAST-MODIFIED:20210607T175640Z
UID:2298-1624320000-1624492799@www.geekersdigest.com
SUMMARY:Postgres Vision 2021
DESCRIPTION:Postgres Vision 2021 is the enterprise Postgres conference. \n\nThis free event will explore the proliferation of Postgres\, including the future of Postgres\, real-world user stories\, and new tools and technology like containers and cloud.\n\nIf you’re involved with leveraging data to innovate\, PostgresVision2021 is for you. Whether you are an end user\, partner\, expert\, or aspiring technologist—there is something for everyone to learn how PostgreSQL is advancing the future of data.
URL:https://www.geekersdigest.com/event/postgres-vision-2021/
LOCATION:Virtual
CATEGORIES:Commercial IT,Developers,DevOps,Executives,Open Source Software
ATTACH;FMTTYPE=image/png:https://www.geekersdigest.com/wp-content/uploads/2021/06/postgres-vision-2021.png
END:VEVENT
BEGIN:VEVENT
DTSTART;VALUE=DATE:20210623
DTEND;VALUE=DATE:20210625
DTSTAMP:20260423T144317
CREATED:20210609T053856Z
LAST-MODIFIED:20210609T053925Z
UID:2368-1624406400-1624579199@www.geekersdigest.com
SUMMARY:Volcamp 2021
DESCRIPTION:Volcamp ist an IT conference located in Clermont-Fd in France and organized by the non-profit organization Geek&Terroir. \nThe conference brings together regional IT specialists and users (from the IT industry\, universities\, students\, associations) to share their experience about IT and other new technologies. \nThe conference is held in French. \nThe schedule can be found on https://www.volcamp.io/talks/.
URL:https://www.geekersdigest.com/event/volcamp-2021/
LOCATION:Virtual
CATEGORIES:Big Data,Cloud,Commercial IT,Conventions,Developers,DevOps,Executives,Security
ATTACH;FMTTYPE=image/png:https://www.geekersdigest.com/wp-content/uploads/2021/06/volcamp.png
END:VEVENT
END:VCALENDAR