BEGIN:VCALENDAR
VERSION:2.0
PRODID:-//Geeker&#039;s Digest - ECPv6.15.17.1//NONSGML v1.0//EN
CALSCALE:GREGORIAN
METHOD:PUBLISH
X-ORIGINAL-URL:https://www.geekersdigest.com
X-WR-CALDESC:Events for Geeker&#039;s Digest
REFRESH-INTERVAL;VALUE=DURATION:PT1H
X-Robots-Tag:noindex
X-PUBLISHED-TTL:PT1H
BEGIN:VTIMEZONE
TZID:UTC
BEGIN:STANDARD
TZOFFSETFROM:+0000
TZOFFSETTO:+0000
TZNAME:UTC
DTSTART:20200101T000000
END:STANDARD
END:VTIMEZONE
BEGIN:VEVENT
DTSTART;VALUE=DATE:20210928
DTEND;VALUE=DATE:20210930
DTSTAMP:20260423T074301
CREATED:20210928T122457Z
LAST-MODIFIED:20210928T122457Z
UID:2576-1632787200-1632959999@www.geekersdigest.com
SUMMARY:AWS Summit Washington DC 2021
DESCRIPTION:The AWS Summit Washington\, DC is back. Deepen your cloud knowledge and gain new skills to design and deploy solutions in the cloud to accelerate your mission. \nWhether you are new to the cloud or an experienced user\, you can learn something new at AWS Summit Washington\, DC. The AWS Summit Washington\, DC is designed to help you develop the right skills to design and deploy solutions in the cloud to accelerate your mission. \nThe AWS Summit Washington\, DC will livestream the keynote\, fireside chat\, and selected sessions. \nRegistration is complimentary for this event.
URL:https://www.geekersdigest.com/event/aws-summit-washington-2021/
LOCATION:Walter E. Washington Convention Center\, 801 Mt Vernon Pl NW\, Washington\, DC\, DC 20001\, United States
CATEGORIES:Cloud,Commercial IT,DevOps,Executives
ATTACH;FMTTYPE=image/png:https://www.geekersdigest.com/wp-content/uploads/2021/09/awssummit-dc.png
END:VEVENT
END:VCALENDAR