BEGIN:VCALENDAR
VERSION:2.0
PRODID:-//Geeker&#039;s Digest - ECPv6.15.17.1//NONSGML v1.0//EN
CALSCALE:GREGORIAN
METHOD:PUBLISH
X-WR-CALNAME:Geeker&#039;s Digest
X-ORIGINAL-URL:https://www.geekersdigest.com
X-WR-CALDESC:Events for Geeker&#039;s Digest
REFRESH-INTERVAL;VALUE=DURATION:PT1H
X-Robots-Tag:noindex
X-PUBLISHED-TTL:PT1H
BEGIN:VTIMEZONE
TZID:UTC
BEGIN:STANDARD
TZOFFSETFROM:+0000
TZOFFSETTO:+0000
TZNAME:UTC
DTSTART:20200101T000000
END:STANDARD
END:VTIMEZONE
BEGIN:VEVENT
DTSTART;VALUE=DATE:20211005
DTEND;VALUE=DATE:20211008
DTSTAMP:20260423T074001
CREATED:20210607T094305Z
LAST-MODIFIED:20210709T064750Z
UID:2281-1633392000-1633651199@www.geekersdigest.com
SUMMARY:VMworld 2021
DESCRIPTION:VMworld will once again be presented as a digital event in 2021. The conference will kick off on October 5\, 2021. Registration opens June 15th. Please check back regularly for details regarding the event. \nWhat can I expect from VMworld 2021?\nAttendees can still expect updates from VMware executives\, the latest in VMware product and technology news\, hundreds of in-depth learning sessions with VMware experts and customer and networking opportunities. In addition\, there will be entertainment\, special guests and fun/surprise elements throughout. Stay tuned for more details.
URL:https://www.geekersdigest.com/event/vmworld-2021/
LOCATION:Virtual
CATEGORIES:Commercial IT,Conventions,Executives
ATTACH;FMTTYPE=image/png:https://www.geekersdigest.com/wp-content/uploads/2021/06/vmworld.png
END:VEVENT
END:VCALENDAR