BEGIN:VCALENDAR
VERSION:2.0
PRODID:-//Geeker&#039;s Digest - ECPv6.15.17.1//NONSGML v1.0//EN
CALSCALE:GREGORIAN
METHOD:PUBLISH
X-ORIGINAL-URL:https://www.geekersdigest.com
X-WR-CALDESC:Events for Geeker&#039;s Digest
REFRESH-INTERVAL;VALUE=DURATION:PT1H
X-Robots-Tag:noindex
X-PUBLISHED-TTL:PT1H
BEGIN:VTIMEZONE
TZID:UTC
BEGIN:STANDARD
TZOFFSETFROM:+0000
TZOFFSETTO:+0000
TZNAME:UTC
DTSTART:20210101T000000
END:STANDARD
END:VTIMEZONE
BEGIN:VEVENT
DTSTART;VALUE=DATE:20220211
DTEND;VALUE=DATE:20220213
DTSTAMP:20260423T011144
CREATED:20220208T101503Z
LAST-MODIFIED:20220208T101503Z
UID:2786-1644537600-1644710399@www.geekersdigest.com
SUMMARY:Elastic Community Conference 2022
DESCRIPTION:The second annual Elastic Community Conference (ElasticCC) is taking place February 11–12\, 2022. Join and hear success stories\, lessons learned\, tips\, tricks\, best practices\, or funny anecdotes. Discuss with speakers and attendees. Win swag. \nElasticCC is a free technical conference from the community for the community. It's open to everyone: developers\, practitioners\, tinkerers\, experimenters\, question askers\, answer havers\, hardcore advocates\, novice users\, customers\, partners — everyone! And while Elastic engineers will contribute as well\, your voice is the one we want to hear. \nElasticCC is a global event with a single track and multiple languages. Talks will be given in English\, French\, Korean\, Japanese\, Mandarin\, and Portuguese.. While this doesn’t cover our community's full diversity\, we hope that it gives everyone a chance to participate and learn. \nVirtual sessions will kick off on the afternoon of Friday\, February 11\, 2022 in EMEA. The event will then work through the Americas\, wrapping up in APJ on February 12. Why Friday and Saturday? We want to maximize the availability of our community members to participate\, and Friday tends to be the least hectic work day for most. Also\, in parts of APJ\, it's very common to have events on Saturday since not everyone is permitted time off for conferences.
URL:https://www.geekersdigest.com/event/elastic-community-conference-2022/
LOCATION:Virtual
CATEGORIES:Cloud,Commercial IT,Developers,DevOps
ATTACH;FMTTYPE=image/png:https://www.geekersdigest.com/wp-content/uploads/2021/01/1819-elastic.png
END:VEVENT
END:VCALENDAR