BEGIN:VCALENDAR
VERSION:2.0
PRODID:-//Geeker&#039;s Digest - ECPv6.15.17.1//NONSGML v1.0//EN
CALSCALE:GREGORIAN
METHOD:PUBLISH
X-ORIGINAL-URL:https://www.geekersdigest.com
X-WR-CALDESC:Events for Geeker&#039;s Digest
REFRESH-INTERVAL;VALUE=DURATION:PT1H
X-Robots-Tag:noindex
X-PUBLISHED-TTL:PT1H
BEGIN:VTIMEZONE
TZID:UTC
BEGIN:STANDARD
TZOFFSETFROM:+0000
TZOFFSETTO:+0000
TZNAME:UTC
DTSTART:20210101T000000
END:STANDARD
END:VTIMEZONE
BEGIN:VEVENT
DTSTART;VALUE=DATE:20220426
DTEND;VALUE=DATE:20220429
DTSTAMP:20260422T203950
CREATED:20220208T102509Z
LAST-MODIFIED:20220208T102509Z
UID:2789-1650931200-1651190399@www.geekersdigest.com
SUMMARY:DevOpsCon 2022 London
DESCRIPTION:Every year in April\, DevOpsCon London is the go-to event for DevOps enthusiasts!\nThis year\, too\, we look forward to meeting you again! \nBecause we want to ensure that the lively exchange of knowledge and ideas so typical of DevOpsCon London continues to work well\, we were one of the first in the conference industry to develop our online concept. \nIn 2022\, DevOpsCon 2022 London will be held as a hybrid conference. Both on-site in London and online as stream. \n 
URL:https://www.geekersdigest.com/event/devopscon-2022-london/
LOCATION:Park Plaza Victoria London\, 239 Vauxhall Bridge Rd\, London\, SW1V 1EQ\, United Kingdom
CATEGORIES:Big Data,Cloud,Commercial IT,Conventions,DevOps,Executives
ATTACH;FMTTYPE=image/png:https://www.geekersdigest.com/wp-content/uploads/2021/06/devopscon.png
END:VEVENT
END:VCALENDAR