BEGIN:VCALENDAR
VERSION:2.0
PRODID:-//Geeker&#039;s Digest - ECPv6.15.17.1//NONSGML v1.0//EN
CALSCALE:GREGORIAN
METHOD:PUBLISH
X-ORIGINAL-URL:https://www.geekersdigest.com
X-WR-CALDESC:Events for Geeker&#039;s Digest
REFRESH-INTERVAL;VALUE=DURATION:PT1H
X-Robots-Tag:noindex
X-PUBLISHED-TTL:PT1H
BEGIN:VTIMEZONE
TZID:UTC
BEGIN:STANDARD
TZOFFSETFROM:+0000
TZOFFSETTO:+0000
TZNAME:UTC
DTSTART:20210101T000000
END:STANDARD
END:VTIMEZONE
BEGIN:VEVENT
DTSTART;VALUE=DATE:20220606
DTEND;VALUE=DATE:20220611
DTSTAMP:20260422T184219
CREATED:20220208T103259Z
LAST-MODIFIED:20220208T103259Z
UID:2793-1654473600-1654905599@www.geekersdigest.com
SUMMARY:Apple WWDC 2022
DESCRIPTION:Apple Worldwide Developers Conference is an information technology conference held annually in June by Apple Inc. The conference is usually held in the San Jose Convention Center in California. \nDue to the COVID-19 safety restrictions\, WWDC 2020 and WWDC 2021 were presented online. \nWWDC 2022 is expected to be a hybrid conference. \nWatch the live-stream of the keynote on https://www.apple.com/apple-events/event-stream/ starting at 10 AM PDT (17:00 UTC).
URL:https://www.geekersdigest.com/event/apple-wwdc-2022/
LOCATION:Virtual
CATEGORIES:Commercial IT,Developers,Mobile Industry
ATTACH;FMTTYPE=image/png:https://www.geekersdigest.com/wp-content/uploads/2021/06/2284-wwdc21.png
END:VEVENT
END:VCALENDAR