BEGIN:VCALENDAR
VERSION:2.0
PRODID:-//Geeker&#039;s Digest - ECPv6.15.17.1//NONSGML v1.0//EN
CALSCALE:GREGORIAN
METHOD:PUBLISH
X-ORIGINAL-URL:https://www.geekersdigest.com
X-WR-CALDESC:Events for Geeker&#039;s Digest
REFRESH-INTERVAL;VALUE=DURATION:PT1H
X-Robots-Tag:noindex
X-PUBLISHED-TTL:PT1H
BEGIN:VTIMEZONE
TZID:Europe/Helsinki
BEGIN:DAYLIGHT
TZOFFSETFROM:+0200
TZOFFSETTO:+0300
TZNAME:EEST
DTSTART:20210328T010000
END:DAYLIGHT
BEGIN:STANDARD
TZOFFSETFROM:+0300
TZOFFSETTO:+0200
TZNAME:EET
DTSTART:20211031T010000
END:STANDARD
BEGIN:DAYLIGHT
TZOFFSETFROM:+0200
TZOFFSETTO:+0300
TZNAME:EEST
DTSTART:20220327T010000
END:DAYLIGHT
BEGIN:STANDARD
TZOFFSETFROM:+0300
TZOFFSETTO:+0200
TZNAME:EET
DTSTART:20221030T010000
END:STANDARD
BEGIN:DAYLIGHT
TZOFFSETFROM:+0200
TZOFFSETTO:+0300
TZNAME:EEST
DTSTART:20230326T010000
END:DAYLIGHT
BEGIN:STANDARD
TZOFFSETFROM:+0300
TZOFFSETTO:+0200
TZNAME:EET
DTSTART:20231029T010000
END:STANDARD
END:VTIMEZONE
BEGIN:VTIMEZONE
TZID:UTC
BEGIN:STANDARD
TZOFFSETFROM:+0000
TZOFFSETTO:+0000
TZNAME:UTC
DTSTART:20210101T000000
END:STANDARD
END:VTIMEZONE
BEGIN:VEVENT
DTSTART;VALUE=DATE:20220517
DTEND;VALUE=DATE:20220521
DTSTAMP:20260421T105831
CREATED:20210607T074857Z
LAST-MODIFIED:20220509T134700Z
UID:2239-1652745600-1653091199@www.geekersdigest.com
SUMMARY:KubeCon Europe 2022
DESCRIPTION:The Cloud Native Computing Foundation’s flagship conference gathers adopters and technologists from leading open source and cloud native communities in Valencia\, Spain from May 17 – 20\, 2022. Join containerd\, CoreDNS\, Envoy\, etcd\, Fluentd\, Harbor\, Helm\, Jaeger\, Kubernetes\, Open Policy Agent\, Prometheus\, Rook\, TiKV\, TUF\, Vitess\, Argo\, Buildpacks\, CloudEvents\, CNI\, Contour\, Cortex\, CRI-O\, Dragonfly\, Falco\, Flux\, gRPC\, KubeEdge\, Linkerd\, NATS\, Notary\, OpenTracing\, Operator Framework\, SPIFFE\, SPIRE\, and Thanos as the community gathers for four days to further the education and advancement of cloud native computing. \nIn-person attendees will be required to be fully vaccinated against the COVID-19 virus and wear a mask while onsite at the event. Additionally\, all attendees will need to comply with all on-site health measures\, in accordance with The Linux Foundation Code of Conduct. To learn more about what is being done to keep our in-person event attendees safe\, visit the Health + Safety webpage and read our blog post.
URL:https://www.geekersdigest.com/event/kubecon-europe-2022/
LOCATION:Feria Valencia\, Av. de les Fires\, València\, 46035\, Spain
CATEGORIES:Conventions,Developers,DevOps,Linux,Open Source Software
ATTACH;FMTTYPE=image/png:https://www.geekersdigest.com/wp-content/uploads/2021/06/kubecon.png
END:VEVENT
BEGIN:VEVENT
DTSTART;VALUE=DATE:20220531
DTEND;VALUE=DATE:20220602
DTSTAMP:20260421T105831
CREATED:20211115T200635Z
LAST-MODIFIED:20211116T081816Z
UID:2646-1653955200-1654127999@www.geekersdigest.com
SUMMARY:devopsdays Zurich 2022
DESCRIPTION:Devopsdays Zurich 2022 takes place at the "alte Kaserne" in Winterthur. \n\nDevopsdays is a worldwide series of technical conferences covering topics of software development\, IT infrastructure operations\, and the intersection between them. Each event is run by volunteers from the local area. \n\n\nMost devopsdays events feature a combination of curated talks and self organized open space content. Topics often include automation\, testing\, security\, and organizational culture.
URL:https://www.geekersdigest.com/event/devopsdays-zurich-2022/
LOCATION:Alte Kaserne Winterthur\, Technikumstrasse 8\, Winterthur\, 8400\, Switzerland
CATEGORIES:Cloud,Developers,DevOps,Open Source Software
ATTACH;FMTTYPE=image/png:https://www.geekersdigest.com/wp-content/uploads/2021/11/devopsdayszh.png
END:VEVENT
END:VCALENDAR