BEGIN:VCALENDAR
VERSION:2.0
PRODID:-//Geeker&#039;s Digest - ECPv6.15.17.1//NONSGML v1.0//EN
CALSCALE:GREGORIAN
METHOD:PUBLISH
X-WR-CALNAME:Geeker&#039;s Digest
X-ORIGINAL-URL:https://www.geekersdigest.com
X-WR-CALDESC:Events for Geeker&#039;s Digest
REFRESH-INTERVAL;VALUE=DURATION:PT1H
X-Robots-Tag:noindex
X-PUBLISHED-TTL:PT1H
BEGIN:VTIMEZONE
TZID:UTC
BEGIN:STANDARD
TZOFFSETFROM:+0000
TZOFFSETTO:+0000
TZNAME:UTC
DTSTART:20210101T000000
END:STANDARD
END:VTIMEZONE
BEGIN:VEVENT
DTSTART;VALUE=DATE:20220717
DTEND;VALUE=DATE:20220725
DTSTAMP:20260421T074253
CREATED:20220509T141645Z
LAST-MODIFIED:20220509T141747Z
UID:2866-1658016000-1658707199@www.geekersdigest.com
SUMMARY:DebConf 22
DESCRIPTION:DebConf is the Debian Project's developer conference. In addition to a full schedule of technical\, social and policy talks\, DebConf provides an opportunity for developers\, contributors and other interested people to meet in person and work together more closely. \nThe 23rd Debian Conference is being held in Prizren\, Kosovo from Sunday 17th to Sunday 24th July 2022.\nDebCamp will be held 10-16 July 2022.
URL:https://www.geekersdigest.com/event/debconf-22/
LOCATION:Innovation & Training Park (ITP) Prizren\, Ukë Bytyçi\, Prizren\, 20000\, Kosovo
CATEGORIES:Cloud,Conventions,Developers,DevOps,Linux,Open Source Software,Security
ATTACH;FMTTYPE=image/png:https://www.geekersdigest.com/wp-content/uploads/2022/05/debconf22.png
END:VEVENT
END:VCALENDAR