BEGIN:VCALENDAR
VERSION:2.0
PRODID:-//Geeker&#039;s Digest - ECPv6.15.17.1//NONSGML v1.0//EN
CALSCALE:GREGORIAN
METHOD:PUBLISH
X-ORIGINAL-URL:https://www.geekersdigest.com
X-WR-CALDESC:Events for Geeker&#039;s Digest
REFRESH-INTERVAL;VALUE=DURATION:PT1H
X-Robots-Tag:noindex
X-PUBLISHED-TTL:PT1H
BEGIN:VTIMEZONE
TZID:UTC
BEGIN:STANDARD
TZOFFSETFROM:+0000
TZOFFSETTO:+0000
TZNAME:UTC
DTSTART:20230101T000000
END:STANDARD
END:VTIMEZONE
BEGIN:VEVENT
DTSTART;VALUE=DATE:20240728
DTEND;VALUE=DATE:20240805
DTSTAMP:20260419T143234
CREATED:20240405T065712Z
LAST-MODIFIED:20240405T065928Z
UID:3402-1722124800-1722815999@www.geekersdigest.com
SUMMARY:DebConf 24
DESCRIPTION:DebConf is the Debian Project's developer conference. In addition to a full schedule of technical\, social and policy talks\, DebConf provides an opportunity for developers\, contributors and other interested people to meet in person and work together more closely. \nThe 24th Debian Conference is being held in at Pukyong National University in Busan\, South Korea from Sunday 28th to Sunday August 4th 2024. \nDebCamp will be held from Sunday July 21st to Saturday July 27th 2024.
URL:https://www.geekersdigest.com/event/debconf-24/
LOCATION:Pukyong National University\, 45 Yongso-ro Nam-gu\, Busan\, 48513\, Korea\, Democratic People's Republic of
CATEGORIES:Conventions,Developers,Linux,Open Source Software
ATTACH;FMTTYPE=image/svg+xml:https://www.geekersdigest.com/wp-content/uploads/2024/04/debconf24.svg
END:VEVENT
END:VCALENDAR