BEGIN:VCALENDAR
VERSION:2.0
PRODID:-//Geeker&#039;s Digest - ECPv6.15.17.1//NONSGML v1.0//EN
CALSCALE:GREGORIAN
METHOD:PUBLISH
X-WR-CALNAME:Geeker&#039;s Digest
X-ORIGINAL-URL:https://www.geekersdigest.com
X-WR-CALDESC:Events for Geeker&#039;s Digest
REFRESH-INTERVAL;VALUE=DURATION:PT1H
X-Robots-Tag:noindex
X-PUBLISHED-TTL:PT1H
BEGIN:VTIMEZONE
TZID:UTC
BEGIN:STANDARD
TZOFFSETFROM:+0000
TZOFFSETTO:+0000
TZNAME:UTC
DTSTART:20200101T000000
END:STANDARD
END:VTIMEZONE
BEGIN:VEVENT
DTSTART;VALUE=DATE:20210608
DTEND;VALUE=DATE:20210618
DTSTAMP:20260422T071005
CREATED:20210607T072457Z
LAST-MODIFIED:20210608T110206Z
UID:2223-1623110400-1623974399@www.geekersdigest.com
SUMMARY:GrafanaCON 2021
DESCRIPTION:Hear from the Grafana Labs team about exciting next-generation features in Grafana 8 and other announcements. Be inspired by what community members are building and the positive changes they’ve driven for their organizations. Register to secure your spot and get all the event updates. \nSessions start daily at 12pm ET / 16:00 UTC
URL:https://www.geekersdigest.com/event/grafanacon-2021/
LOCATION:Virtual
CATEGORIES:Conventions,Developers,DevOps,Open Source Software
ATTACH;FMTTYPE=image/png:https://www.geekersdigest.com/wp-content/uploads/2021/06/grafanacon2021.png
END:VEVENT
BEGIN:VEVENT
DTSTART;VALUE=DATE:20210615
DTEND;VALUE=DATE:20210617
DTSTAMP:20260422T071005
CREATED:20210607T093742Z
LAST-MODIFIED:20210615T110828Z
UID:2278-1623715200-1623887999@www.geekersdigest.com
SUMMARY:Red Hat Summit 2021
DESCRIPTION:The premier open source event is expanding to become an all-new\, flexible conference series\, consisting of a 2‑part immersive virtual experience as well as a global tour of small-scale\, in-person* events. This series will create collective opportunities to share experiences\, innovations\, and insights. \nRed Hat Summit® 2021 is where we come together to uplift perspectives in enterprise IT all around the world\, ensuring that every contribution has a place\, every person has a voice\, and every question has a meaning. \nBuild your agenda with breakout sessions and technical content geared toward the topics most relevant to your career. You can also network with peers and enjoy fun activities.
URL:https://www.geekersdigest.com/event/red-hat-summit-2021/
LOCATION:Virtual
CATEGORIES:Big Data,Cloud,Commercial IT,Conventions,Developers,DevOps,Executives,Linux,Open Source Software,Security
ATTACH;FMTTYPE=image/png:https://www.geekersdigest.com/wp-content/uploads/2021/06/redhat-summit.png
END:VEVENT
END:VCALENDAR