BEGIN:VCALENDAR
VERSION:2.0
PRODID:-//Geeker&#039;s Digest - ECPv6.15.17.1//NONSGML v1.0//EN
CALSCALE:GREGORIAN
METHOD:PUBLISH
X-WR-CALNAME:Geeker&#039;s Digest
X-ORIGINAL-URL:https://www.geekersdigest.com
X-WR-CALDESC:Events for Geeker&#039;s Digest
REFRESH-INTERVAL;VALUE=DURATION:PT1H
X-Robots-Tag:noindex
X-PUBLISHED-TTL:PT1H
BEGIN:VTIMEZONE
TZID:UTC
BEGIN:STANDARD
TZOFFSETFROM:+0000
TZOFFSETTO:+0000
TZNAME:UTC
DTSTART:20200101T000000
END:STANDARD
END:VTIMEZONE
BEGIN:VEVENT
DTSTART;VALUE=DATE:20210803
DTEND;VALUE=DATE:20210805
DTSTAMP:20260422T025223
CREATED:20210607T142221Z
LAST-MODIFIED:20210607T175610Z
UID:2325-1627948800-1628121599@www.geekersdigest.com
SUMMARY:GitLab Commit 2021
DESCRIPTION:Bringing together the GitLab community\, Commit shares stories from across the software development lifecycle to inspire and connect teams to innovate together. GitLab Commit showcases how software professionals iterate to spark transformation\, innovation\, and collaboration. During this two-day conference\, attendees learn practical techniques and useful insights to implement at their organizations. As an open DevOps platform\, GitLab supports teams to change how software is delivered. Commit amplifies these stories of transformation to empower DevOps teams to increase velocity\, collaboration\, and visibility.
URL:https://www.geekersdigest.com/event/gitlab-commit-2021/
LOCATION:Virtual
CATEGORIES:Conventions,Developers,DevOps,Open Source Software
ATTACH;FMTTYPE=image/png:https://www.geekersdigest.com/wp-content/uploads/2021/06/gitlab-commit.png
END:VEVENT
END:VCALENDAR