BEGIN:VCALENDAR
VERSION:2.0
PRODID:-//Geeker&#039;s Digest - ECPv6.15.17.1//NONSGML v1.0//EN
CALSCALE:GREGORIAN
METHOD:PUBLISH
X-ORIGINAL-URL:https://www.geekersdigest.com
X-WR-CALDESC:Events for Geeker&#039;s Digest
REFRESH-INTERVAL;VALUE=DURATION:PT1H
X-Robots-Tag:noindex
X-PUBLISHED-TTL:PT1H
BEGIN:VTIMEZONE
TZID:UTC
BEGIN:STANDARD
TZOFFSETFROM:+0000
TZOFFSETTO:+0000
TZNAME:UTC
DTSTART:20200101T000000
END:STANDARD
END:VTIMEZONE
BEGIN:VEVENT
DTSTART;VALUE=DATE:20210920
DTEND;VALUE=DATE:20210925
DTSTAMP:20260422T010802
CREATED:20210920T000000Z
LAST-MODIFIED:20210921T052744Z
UID:2254-1632096000-1632527999@www.geekersdigest.com
SUMMARY:Linux Plumbers Conference (LPC) 2021
DESCRIPTION:Linux Plumbers Conference will be fully virtual and mostly taking place in the Atlantic Timezone (1h before US Eastern\, 5h later than Central European). \nHow to watch the Conference\nYouTube live streams are available for free each day of the conference. The links will be posted every day prior to the start of the conference\, here \nConference Details\nLinux Plumbers Conference will be fully virtual and taking place in the Pacific US Timezone from Monday September 20 to Friday September 24\, for 5 consecutive half days. \nThe conference will run each day from 7AM to 11AM US Pacific time\, with possibly an extra hour for opening and closing keynotes. \nStay tuned for more details. \nTwitter: @LinuxPlumbers \nHashtag: #LinuxPlumbers
URL:https://www.geekersdigest.com/event/linux-plumbers-conference-lpc-2021/
LOCATION:Virtual
CATEGORIES:Conventions,Developers,Linux,Open Source Software,Security
ATTACH;FMTTYPE=image/png:https://www.geekersdigest.com/wp-content/uploads/2021/06/linuxplumbers.png
END:VEVENT
BEGIN:VEVENT
DTSTART;VALUE=DATE:20210921
DTEND;VALUE=DATE:20210924
DTSTAMP:20260422T010802
CREATED:20210921T000000Z
LAST-MODIFIED:20210921T052357Z
UID:2550-1632182400-1632441599@www.geekersdigest.com
SUMMARY:ApacheCon 2021
DESCRIPTION:Three days of Apache project content across dozens of categories\, from Big Data to Fintech to Search to Tomcat and so much more.
URL:https://www.geekersdigest.com/event/apachecon-2021/
LOCATION:Virtual
CATEGORIES:Big Data,Conventions,Developers,Linux,Open Source Software
ATTACH;FMTTYPE=image/png:https://www.geekersdigest.com/wp-content/uploads/2021/09/apachecon2021.png
END:VEVENT
END:VCALENDAR