BEGIN:VCALENDAR
VERSION:2.0
PRODID:-//Geeker&#039;s Digest - ECPv6.15.17.1//NONSGML v1.0//EN
CALSCALE:GREGORIAN
METHOD:PUBLISH
X-ORIGINAL-URL:https://www.geekersdigest.com
X-WR-CALDESC:Events for Geeker&#039;s Digest
REFRESH-INTERVAL;VALUE=DURATION:PT1H
X-Robots-Tag:noindex
X-PUBLISHED-TTL:PT1H
BEGIN:VTIMEZONE
TZID:UTC
BEGIN:STANDARD
TZOFFSETFROM:+0000
TZOFFSETTO:+0000
TZNAME:UTC
DTSTART:20200101T000000
END:STANDARD
END:VTIMEZONE
BEGIN:VEVENT
DTSTART;VALUE=DATE:20210929
DTEND;VALUE=DATE:20211002
DTSTAMP:20260421T233244
CREATED:20210929T000000Z
LAST-MODIFIED:20210929T052359Z
UID:2309-1632873600-1633132799@www.geekersdigest.com
SUMMARY:Linux Security Summit 2021
DESCRIPTION:The Linux Security Summit (LSS) is a technical forum for collaboration between Linux developers\, researchers\, and end-users. Its primary aim is to foster community efforts in analyzing and solving Linux security challenges. \nLSS is happening as a hybrid conference (real and virtual).\n \nRegistration for virtual sessions (livestreams) costs $50. On site entry costs $250.
URL:https://www.geekersdigest.com/event/linux-security-summit/
LOCATION:Hyatt Regency Seattle\, 808 Howell St\, Seattle\, WA\, WA 98101\, United States
CATEGORIES:Conventions,Developers,Linux,Open Source Software
ATTACH;FMTTYPE=image/png:https://www.geekersdigest.com/wp-content/uploads/2021/06/linux-security-summit.png
END:VEVENT
END:VCALENDAR