BEGIN:VCALENDAR
VERSION:2.0
PRODID:-//Geeker&#039;s Digest - ECPv6.15.17.1//NONSGML v1.0//EN
CALSCALE:GREGORIAN
METHOD:PUBLISH
X-WR-CALNAME:Geeker&#039;s Digest
X-ORIGINAL-URL:https://www.geekersdigest.com
X-WR-CALDESC:Events for Geeker&#039;s Digest
REFRESH-INTERVAL;VALUE=DURATION:PT1H
X-Robots-Tag:noindex
X-PUBLISHED-TTL:PT1H
BEGIN:VTIMEZONE
TZID:UTC
BEGIN:STANDARD
TZOFFSETFROM:+0000
TZOFFSETTO:+0000
TZNAME:UTC
DTSTART:20200101T000000
END:STANDARD
END:VTIMEZONE
BEGIN:VEVENT
DTSTART;VALUE=DATE:20211019
DTEND;VALUE=DATE:20211023
DTSTAMP:20260421T233133
CREATED:20210608T191413Z
LAST-MODIFIED:20210608T191413Z
UID:2358-1634601600-1634947199@www.geekersdigest.com
SUMMARY:HashiConf Global 2021
DESCRIPTION:HashiConf is HashiCorp’s annual community conference\, a multi-day experience created so you can connect with other HashiCorp community members\, core contributors\, customers\, partners\, and HashiCorp employees. HashiConf normally takes place twice a year: HashiConf Europe in June take place during daytime hours in the Central European (CEST) timezone. HashiConf Global in October takes place during daytime hours in the Pacific (PDT) timezone.
URL:https://www.geekersdigest.com/event/hashiconf-global-2021/
LOCATION:Virtual
CATEGORIES:Cloud,Conventions,Developers,DevOps,Open Source Software
ATTACH;FMTTYPE=image/png:https://www.geekersdigest.com/wp-content/uploads/2021/06/hashiconf.png
END:VEVENT
BEGIN:VEVENT
DTSTART;VALUE=DATE:20211019
DTEND;VALUE=DATE:20211023
DTSTAMP:20260421T233133
CREATED:20211019T000000Z
LAST-MODIFIED:20211011T053605Z
UID:2597-1634601600-1634947199@www.geekersdigest.com
SUMMARY:OSSEC Conference 2021
DESCRIPTION:Get open source security expertise and software support at the OSSEC Conference 2021\, Tuesday\, Oct. 19 through Friday\, Oct. 22. The show will focus on a variety of key organizational security topics\, including file integrity monitoring (FIM) and getting the most out of OSSEC and ModSecurity. The four-day virtual show (two full days of sessions; two half-days of hand-on training with your own virtual environment) will highlight: \n\nLeveraging FIM (a record of what changed) for both advanced security and compliance.\nCross-platform security and support for open source and commercial software\, including legacy operating systems such as AIX\, OpenVMS\, HP-UX\, Solaris\, as well as EOL Windows versions.\nThe importance of web application security\, and the advantages of free and low-cost ModSecurity Rules toward immediately combating most web-based attacks.\nInstruction on Open Source Security (OSSEC)\, and orchestrating security across hybrid legacy and secure modernization environments. Easily navigate a GUI and SIEM system as well.\nAnd much more.\n\nThe first 2 conference days are free! The hands-on training (Thursday and Friday) is a $100 fee. \nEasily register through EventBrite. Register now!
URL:https://www.geekersdigest.com/event/ossec-conference-2021/
LOCATION:Virtual
CATEGORIES:Hacking,Linux,Open Source Software,Security
ATTACH;FMTTYPE=image/png:https://www.geekersdigest.com/wp-content/uploads/2021/10/ossec-conference.png
END:VEVENT
END:VCALENDAR