BEGIN:VCALENDAR
VERSION:2.0
PRODID:-//Geeker&#039;s Digest - ECPv6.15.17.1//NONSGML v1.0//EN
CALSCALE:GREGORIAN
METHOD:PUBLISH
X-WR-CALNAME:Geeker&#039;s Digest
X-ORIGINAL-URL:https://www.geekersdigest.com
X-WR-CALDESC:Events for Geeker&#039;s Digest
REFRESH-INTERVAL;VALUE=DURATION:PT1H
X-Robots-Tag:noindex
X-PUBLISHED-TTL:PT1H
BEGIN:VTIMEZONE
TZID:UTC
BEGIN:STANDARD
TZOFFSETFROM:+0000
TZOFFSETTO:+0000
TZNAME:UTC
DTSTART:20200101T000000
END:STANDARD
END:VTIMEZONE
BEGIN:VEVENT
DTSTART;VALUE=DATE:20211026
DTEND;VALUE=DATE:20211028
DTSTAMP:20260422T010458
CREATED:20210607T090919Z
LAST-MODIFIED:20210607T175521Z
UID:2271-1635206400-1635379199@www.geekersdigest.com
SUMMARY:InfluxDays 2021
DESCRIPTION:Attend this year’s event and find out why time series databases are the fastest growing database segment providing real-time observability of your solutions. \nYou will also gain first-hand knowledge and inspiration from InfluxDB community members to help you build and optimize your DevOps infrastructure and application monitoring\, real-time analytics\, and IoT applications for maximum business value. \nSessions are scheduled at 9 am – 1 pm PT.
URL:https://www.geekersdigest.com/event/influxdays-2021/
LOCATION:Virtual
CATEGORIES:Conventions,DevOps,Open Source Software
END:VEVENT
END:VCALENDAR