BEGIN:VCALENDAR
VERSION:2.0
PRODID:-//Geeker&#039;s Digest - ECPv6.15.17.1//NONSGML v1.0//EN
CALSCALE:GREGORIAN
METHOD:PUBLISH
X-WR-CALNAME:Geeker&#039;s Digest
X-ORIGINAL-URL:https://www.geekersdigest.com
X-WR-CALDESC:Events for Geeker&#039;s Digest
REFRESH-INTERVAL;VALUE=DURATION:PT1H
X-Robots-Tag:noindex
X-PUBLISHED-TTL:PT1H
BEGIN:VTIMEZONE
TZID:UTC
BEGIN:STANDARD
TZOFFSETFROM:+0000
TZOFFSETTO:+0000
TZNAME:UTC
DTSTART:20200101T000000
END:STANDARD
END:VTIMEZONE
BEGIN:VEVENT
DTSTART;VALUE=DATE:20211028
DTEND;VALUE=DATE:20211030
DTSTAMP:20260421T233010
CREATED:20210607T084739Z
LAST-MODIFIED:20210607T084934Z
UID:2262-1635379200-1635551999@www.geekersdigest.com
SUMMARY:devopsdays Melbourne 2021
DESCRIPTION:
URL:https://www.geekersdigest.com/event/devopsdays-melbourne-2021/
LOCATION:Arts Centre Melbourne\, 100 St Kilda Rd\, Melbourne\, Victoria\, VIC 3004\, Australia
CATEGORIES:Conventions,DevOps,Linux,Open Source Software
END:VEVENT
END:VCALENDAR