BEGIN:VCALENDAR
VERSION:2.0
PRODID:-//Geeker&#039;s Digest - ECPv6.15.17.1//NONSGML v1.0//EN
CALSCALE:GREGORIAN
METHOD:PUBLISH
X-WR-CALNAME:Geeker&#039;s Digest
X-ORIGINAL-URL:https://www.geekersdigest.com
X-WR-CALDESC:Events for Geeker&#039;s Digest
REFRESH-INTERVAL;VALUE=DURATION:PT1H
X-Robots-Tag:noindex
X-PUBLISHED-TTL:PT1H
BEGIN:VTIMEZONE
TZID:UTC
BEGIN:STANDARD
TZOFFSETFROM:+0000
TZOFFSETTO:+0000
TZNAME:UTC
DTSTART:20210101T000000
END:STANDARD
END:VTIMEZONE
BEGIN:VEVENT
DTSTART;VALUE=DATE:20220620
DTEND;VALUE=DATE:20220623
DTSTAMP:20260421T105830
CREATED:20220208T104139Z
LAST-MODIFIED:20220510T081723Z
UID:2797-1655683200-1655942399@www.geekersdigest.com
SUMMARY:HashiConf Europe 2022
DESCRIPTION:HashiConf is HashiCorp’s annual community conference\, a multi-day experience created so you can connect with other HashiCorp community members\, core contributors\, customers\, partners\, and HashiCorp employees. HashiConf normally takes place twice a year: HashiConf Europe in June take place during daytime hours in the Central European (CEST) timezone. HashiConf Global in October takes place during daytime hours in the Pacific (PDT) timezone. \nHashiConf Europe 2022 will be held as a hybrid conference. Physically on-site in Amsterdam\, The Netherlands and online as live stream. \nThe on-site event requires a fee of € 450.
URL:https://www.geekersdigest.com/event/hashiconf-europe-2022/
LOCATION:Zuiveringshal West Amsterdam\, Pazzanistraat 37\, Amsterdam\, North Holland\, 1014 DB\, Netherlands
CATEGORIES:Cloud,Commercial IT,Conventions,Developers,DevOps,Open Source Software
ATTACH;FMTTYPE=image/png:https://www.geekersdigest.com/wp-content/uploads/2021/06/hashiconf.png
END:VEVENT
BEGIN:VEVENT
DTSTART;VALUE=DATE:20220621
DTEND;VALUE=DATE:20220625
DTSTAMP:20260421T105830
CREATED:20210607T130057Z
LAST-MODIFIED:20220510T081850Z
UID:2312-1655769600-1656115199@www.geekersdigest.com
SUMMARY:Open Source Summit North America 2022
DESCRIPTION:Open Source Summit connects the open source ecosystem under one roof. It’s a unique environment for cross-collaboration between developers\, sysadmins\, devops\, architects and others who are driving technology forward. \nNote that in-person attendees will be required to be fully vaccinated against the COVID-19 virus and wear a mask while onsite at the event. Additionally\, all attendees will need to comply with all on-site health measures\, in accordance with The Linux Foundation Code of Conduct. To learn more about what is being done to keep our in-person event attendees safe\, visit the Health & Safety webpage.
URL:https://www.geekersdigest.com/event/open-source-summit-north-america-2022/
LOCATION:Austin Convention Center\, 500 E. Cesar Chavez St.\, Austin\, Texas\, United States
CATEGORIES:Conventions,Developers,DevOps,Linux,Open Source Software
ATTACH;FMTTYPE=image/png:https://www.geekersdigest.com/wp-content/uploads/2021/06/opensourcesummit.png
END:VEVENT
END:VCALENDAR