BEGIN:VCALENDAR
VERSION:2.0
PRODID:-//Geeker&#039;s Digest - ECPv6.15.17.1//NONSGML v1.0//EN
CALSCALE:GREGORIAN
METHOD:PUBLISH
X-WR-CALNAME:Geeker&#039;s Digest
X-ORIGINAL-URL:https://www.geekersdigest.com
X-WR-CALDESC:Events for Geeker&#039;s Digest
REFRESH-INTERVAL;VALUE=DURATION:PT1H
X-Robots-Tag:noindex
X-PUBLISHED-TTL:PT1H
BEGIN:VTIMEZONE
TZID:UTC
BEGIN:STANDARD
TZOFFSETFROM:+0000
TZOFFSETTO:+0000
TZNAME:UTC
DTSTART:20220101T000000
END:STANDARD
END:VTIMEZONE
BEGIN:VTIMEZONE
TZID:America/Los_Angeles
BEGIN:DAYLIGHT
TZOFFSETFROM:-0800
TZOFFSETTO:-0700
TZNAME:PDT
DTSTART:20230312T100000
END:DAYLIGHT
BEGIN:STANDARD
TZOFFSETFROM:-0700
TZOFFSETTO:-0800
TZNAME:PST
DTSTART:20231105T090000
END:STANDARD
BEGIN:DAYLIGHT
TZOFFSETFROM:-0800
TZOFFSETTO:-0700
TZNAME:PDT
DTSTART:20240310T100000
END:DAYLIGHT
BEGIN:STANDARD
TZOFFSETFROM:-0700
TZOFFSETTO:-0800
TZNAME:PST
DTSTART:20241103T090000
END:STANDARD
BEGIN:DAYLIGHT
TZOFFSETFROM:-0800
TZOFFSETTO:-0700
TZNAME:PDT
DTSTART:20250309T100000
END:DAYLIGHT
BEGIN:STANDARD
TZOFFSETFROM:-0700
TZOFFSETTO:-0800
TZNAME:PST
DTSTART:20251102T090000
END:STANDARD
END:VTIMEZONE
BEGIN:VTIMEZONE
TZID:Europe/Helsinki
BEGIN:DAYLIGHT
TZOFFSETFROM:+0200
TZOFFSETTO:+0300
TZNAME:EEST
DTSTART:20230326T010000
END:DAYLIGHT
BEGIN:STANDARD
TZOFFSETFROM:+0300
TZOFFSETTO:+0200
TZNAME:EET
DTSTART:20231029T010000
END:STANDARD
BEGIN:DAYLIGHT
TZOFFSETFROM:+0200
TZOFFSETTO:+0300
TZNAME:EEST
DTSTART:20240331T010000
END:DAYLIGHT
BEGIN:STANDARD
TZOFFSETFROM:+0300
TZOFFSETTO:+0200
TZNAME:EET
DTSTART:20241027T010000
END:STANDARD
BEGIN:DAYLIGHT
TZOFFSETFROM:+0200
TZOFFSETTO:+0300
TZNAME:EEST
DTSTART:20250330T010000
END:DAYLIGHT
BEGIN:STANDARD
TZOFFSETFROM:+0300
TZOFFSETTO:+0200
TZNAME:EET
DTSTART:20251026T010000
END:STANDARD
END:VTIMEZONE
BEGIN:VEVENT
DTSTART;VALUE=DATE:20230313
DTEND;VALUE=DATE:20230315
DTSTAMP:20260422T013756
CREATED:20230119T120114Z
LAST-MODIFIED:20230119T120114Z
UID:3089-1678665600-1678838399@www.geekersdigest.com
SUMMARY:Cassandra Summit 2023
DESCRIPTION:Cassandra Summit\, taking place March 13-14\, 2023 in San Jose\, CA + Virtual\, is where the industry connects to share best practices and use cases\, celebrate makers and users\, forge critical relationships\, and learn about advancements in Apache Cassandra® and the ecosystem driving today’s open source data infrastructure.
URL:https://www.geekersdigest.com/event/cassandra-summit-2023/
LOCATION:San Jose McEnery Convention Center\, 150 W San Carlos Street\, San Jose\, CA\, 95113\, United States
CATEGORIES:AI,Big Data,Cloud,Conventions,Developers,DevOps,Open Source Software
ATTACH;FMTTYPE=image/png:https://www.geekersdigest.com/wp-content/uploads/2023/01/cassandra-summit.png
END:VEVENT
BEGIN:VEVENT
DTSTART;VALUE=DATE:20230418
DTEND;VALUE=DATE:20230422
DTSTAMP:20260422T013756
CREATED:20230117T085404Z
LAST-MODIFIED:20230117T085404Z
UID:3070-1681776000-1682121599@www.geekersdigest.com
SUMMARY:KubeCon Europe 2023
DESCRIPTION:The Cloud Native Computing Foundation’s flagship conference gathers adopters and technologists from leading open source and cloud native communities in Amsterdam\, The Netherlands from 18-21 April\, 2023. Join containerd\, CoreDNS\, Envoy\, etcd\, Fluentd\, Harbor\, Helm\, Jaeger\, Kubernetes\, Linkerd\, Open Policy Agent\, Prometheus\, Rook\, TiKV\, TUF\, Vitess\, Argo\, Backstage\, Buildpacks\, Chaos Mesh\, Cilium\, CloudEvents\, CNI\, Contour\, Cortex\, CRI-O\, Crossplane\, CubeFS\, dapr\, Dragonfly\, Emissary Ingress\, Falco\, Flagger\, Flux\, gRPC\, Hubble\, in-toto\, KEDA\, Keptn\, Knativec\, KubeEdge\, KubeVirt\, Kyverno\, Litmus\, Longhorn\, NATS\, Notary\, OpenMetrics\, OpenTelemetry\, Operator Framework\, SPIFFE\, SPIRE\, Tetragon\, Thanos\, and Volcano as the community gathers for five days to further the education and advancement of cloud native computing.
URL:https://www.geekersdigest.com/event/kubecon-europe-2023/
LOCATION:RAI Amsterdam\, Europaplein 24\, Amsterdam\, 1078 GZ\, Netherlands
CATEGORIES:Conventions,Developers,DevOps,Linux,Open Source Software
ATTACH;FMTTYPE=image/png:https://www.geekersdigest.com/wp-content/uploads/2021/06/kubecon.png
END:VEVENT
BEGIN:VEVENT
DTSTART;VALUE=DATE:20230510
DTEND;VALUE=DATE:20230513
DTSTAMP:20260422T013756
CREATED:20221205T150236Z
LAST-MODIFIED:20221205T150236Z
UID:3047-1683676800-1683935999@www.geekersdigest.com
SUMMARY:Open Source Summit North America 2023
DESCRIPTION:Open Source Summit connects the open source ecosystem under one roof. It’s a unique environment for cross-collaboration between developers\, sysadmins\, devops\, architects and others who are driving technology forward. \nCFP (Call for Proposals) will open in late December. \nRegistering is believed to open in Q1 2023.
URL:https://www.geekersdigest.com/event/open-source-summit-north-america-2023/
LOCATION:Vancouver Convention Center\, 1055 Canada Pl\, Vancouver\, BC\, V6C 0C3\, Canada
CATEGORIES:Cloud,Conventions,Developers,DevOps,Linux,Open Source Software
ATTACH;FMTTYPE=image/png:https://www.geekersdigest.com/wp-content/uploads/2021/06/opensourcesummit.png
END:VEVENT
BEGIN:VEVENT
DTSTART;VALUE=DATE:20230613
DTEND;VALUE=DATE:20230614
DTSTAMP:20260422T013756
CREATED:20230320T131327Z
LAST-MODIFIED:20230320T131716Z
UID:3152-1686614400-1686700799@www.geekersdigest.com
SUMMARY:SNMP Day 2023
DESCRIPTION:Let's create a day to embrace SNMP\, the small but very important application protocol to monitor all kinds of hardware devices. \nFrom network devices\, over embedded devices to printers… SNMP covers it all! \nWhat better date would there be than 1.3.6 = 13th of June. \nHappy SNMP Day!
URL:https://www.geekersdigest.com/event/snmp-day-2023/
LOCATION:Virtual
CATEGORIES:Open Source Software
ATTACH;FMTTYPE=image/png:https://www.geekersdigest.com/wp-content/uploads/2023/03/snmp-trap.png
END:VEVENT
BEGIN:VEVENT
DTSTART;VALUE=DATE:20230913
DTEND;VALUE=DATE:20230915
DTSTAMP:20260422T013756
CREATED:20230117T101253Z
LAST-MODIFIED:20230117T101253Z
UID:3074-1694563200-1694735999@www.geekersdigest.com
SUMMARY:stackconf 2023
DESCRIPTION:The Open Source Infrastructure Conference \nstackconf is about open source infrastructure in the spectrum of continuous integration\, container\, hybrid and cloud solutions. Bridging the gap between development\, testing and operations is one of the fundamental paradigms in modern IT. stackconf covers this concept from multiple perspectives. \nOver a course of two days\, you can enjoy a total of 36 talks by outstanding open source experts sharing their expertise in the area of open source infrastructure solutions.\nThe stackconf timetable enables you to add your preferred lectures to your personal calendar. Make sure not to miss any of your favourite talks!
URL:https://www.geekersdigest.com/event/stackconf-2023/
LOCATION:NH Berlin Alexanderplatz\, Landsberger Allee 26\, Berlin\, Berlin\, 10249\, Germany
CATEGORIES:Cloud,Commercial IT,Conventions,Developers,DevOps,Executives,Linux,Open Source Software,Security
ATTACH;FMTTYPE=image/png:https://www.geekersdigest.com/wp-content/uploads/2021/06/stackconf.png
END:VEVENT
BEGIN:VEVENT
DTSTART;VALUE=DATE:20230919
DTEND;VALUE=DATE:20230922
DTSTAMP:20260422T013756
CREATED:20221205T145214Z
LAST-MODIFIED:20230320T211803Z
UID:3044-1695081600-1695340799@www.geekersdigest.com
SUMMARY:Open Source Summit Europe 2023
DESCRIPTION:The Open Source Summit (OSSUMMIT) Europe and Embedded Linux Conference Europe 2023 are scheduled to be located in Bilbao\, Spain. \nOpen Source Summit is the premier event for open source developers\, technologists\, and community leaders to collaborate\, share information\, solve problems and gain knowledge\, furthering open source innovation and ensuring a sustainable open source ecosystem. It is the gathering place for open source code and community contributors. \nOpen Source Summit is a conference umbrella\, composed of a collection of events covering the most important technologies\, topics\, and issues affecting open source today. \nEarly bird registration (with a reduced fee) is possible between February 8th until July 6th 2023.
URL:https://www.geekersdigest.com/event/open-source-summit-europe-2023/
LOCATION:Euskalduna Conference Centre\, 4\, Abandoibarra Av\, Bilbao\, 48011\, Spain
CATEGORIES:Cloud,Conventions,Developers,DevOps,Linux,Open Source Software
ATTACH;FMTTYPE=image/png:https://www.geekersdigest.com/wp-content/uploads/2021/06/2183-ossummit.png
END:VEVENT
BEGIN:VEVENT
DTSTART;VALUE=DATE:20240319
DTEND;VALUE=DATE:20240323
DTSTAMP:20260422T013756
CREATED:20240223T080559Z
LAST-MODIFIED:20240223T080559Z
UID:3393-1710806400-1711151999@www.geekersdigest.com
SUMMARY:KubeCon Europe 2024
DESCRIPTION:The Cloud Native Computing Foundation’s flagship conference gathers adopters and technologists from leading open source and cloud native communities in Paris\, France from 19 – 22 March\, 2024. \n \nJoin containerd\, CoreDNS\, Envoy\, etcd\, Fluentd\, Harbor\, Helm\, Jaeger\, Kubernetes\, Linkerd\, Open Policy Agent\, Prometheus\, Rook\, TiKV\, TUF\, Vitess\, Argo\, Backstage\, Buildpacks\, Chaos Mesh\, Cilium\, CloudEvents\, CNI\, Contour\, Cortex\, CRI-O\, Crossplane\, CubeFS\, dapr\, Dragonfly\, Emissary Ingress\, Falco\, Flagger\, Flux\, gRPC\, Hubble\, in-toto\, KEDA\, Keptn\, Knativec\, KubeEdge\, KubeVirt\, Kyverno\, Litmus\, Longhorn\, NATS\, Notary\, OpenMetrics\, OpenTelemetry\, Operator Framework\, SPIFFE\, SPIRE\, Tetragon\, Thanos\, and Volcano as the community gathers for five days to further the education and advancement of cloud native computing.
URL:https://www.geekersdigest.com/event/kubecon-europe-2024/
LOCATION:Paris Expo Porte de Versailles\, 1 Place de la Porte de Versailles\, Paris\, 75015\, France
CATEGORIES:Cloud,Commercial IT,Conventions,Developers,DevOps,Executives,Open Source Software,Security
ATTACH;FMTTYPE=image/png:https://www.geekersdigest.com/wp-content/uploads/2021/06/kubecon.png
END:VEVENT
BEGIN:VEVENT
DTSTART;VALUE=DATE:20240416
DTEND;VALUE=DATE:20240419
DTSTAMP:20260422T013756
CREATED:20240223T074652Z
LAST-MODIFIED:20240223T074652Z
UID:3381-1713225600-1713484799@www.geekersdigest.com
SUMMARY:Open Source Summit North America 2024
DESCRIPTION:Open Source Summit is the premier event for open source developers\, technologists\, and community leaders to collaborate\, share information\, solve problems\, and gain knowledge\, furthering open source innovation and ensuring a sustainable open source ecosystem. It is the gathering place for open-source code and community contributors. \n \nOpen Source Summit is a conference umbrella\, composed of a collection of events covering the most important technologies\, topics\, and issues affecting open source today. \n\nRegistering is open now. Entry price depends on your type of attendee.
URL:https://www.geekersdigest.com/event/open-source-summit-north-america-2024/
LOCATION:Seattle Convention Center\, 900 Pine St\, Seattle\, WA\, 98101\, United States
CATEGORIES:Conventions,Developers,DevOps,Linux,Open Source Software
ATTACH;FMTTYPE=image/png:https://www.geekersdigest.com/wp-content/uploads/2021/06/opensourcesummit.png
END:VEVENT
BEGIN:VEVENT
DTSTART;VALUE=DATE:20240613
DTEND;VALUE=DATE:20240614
DTSTAMP:20260422T013756
CREATED:20240223T075717Z
LAST-MODIFIED:20240223T075717Z
UID:3389-1718236800-1718323199@www.geekersdigest.com
SUMMARY:SNMP Day 2024
DESCRIPTION:Let's create a day to embrace SNMP\, the small but very important application protocol to monitor all kinds of hardware devices. \nFrom network devices\, over embedded devices to printers… SNMP covers it all! \nWhat better date would there be than 1.3.6 = 13th of June. \nHappy SNMP Day!
URL:https://www.geekersdigest.com/event/snmp-day-2024/
LOCATION:Virtual
CATEGORIES:Open Source Software
ATTACH;FMTTYPE=image/png:https://www.geekersdigest.com/wp-content/uploads/2023/03/snmp-trap.png
END:VEVENT
BEGIN:VEVENT
DTSTART;VALUE=DATE:20240728
DTEND;VALUE=DATE:20240805
DTSTAMP:20260422T013756
CREATED:20240405T065712Z
LAST-MODIFIED:20240405T065928Z
UID:3402-1722124800-1722815999@www.geekersdigest.com
SUMMARY:DebConf 24
DESCRIPTION:DebConf is the Debian Project's developer conference. In addition to a full schedule of technical\, social and policy talks\, DebConf provides an opportunity for developers\, contributors and other interested people to meet in person and work together more closely. \nThe 24th Debian Conference is being held in at Pukyong National University in Busan\, South Korea from Sunday 28th to Sunday August 4th 2024. \nDebCamp will be held from Sunday July 21st to Saturday July 27th 2024.
URL:https://www.geekersdigest.com/event/debconf-24/
LOCATION:Pukyong National University\, 45 Yongso-ro Nam-gu\, Busan\, 48513\, Korea\, Democratic People's Republic of
CATEGORIES:Conventions,Developers,Linux,Open Source Software
ATTACH;FMTTYPE=image/svg+xml:https://www.geekersdigest.com/wp-content/uploads/2024/04/debconf24.svg
END:VEVENT
BEGIN:VEVENT
DTSTART;VALUE=DATE:20240916
DTEND;VALUE=DATE:20240919
DTSTAMP:20260422T013756
CREATED:20240223T075253Z
LAST-MODIFIED:20240223T075253Z
UID:3384-1726444800-1726703999@www.geekersdigest.com
SUMMARY:Open Source Summit Europe 2024
DESCRIPTION:The Open Source Summit (OSSUMMIT) Europe and Embedded Linux Conference Europe 2024 are scheduled to be located in Vienna\, Austria. \n \nOpen Source Summit is the premier event for open source developers\, technologists\, and community leaders to collaborate\, share information\, solve problems and gain knowledge\, furthering open source innovation and ensuring a sustainable open source ecosystem. It is the gathering place for open source code and community contributors. \nOpen Source Summit is a conference umbrella\, composed of a collection of events covering the most important technologies\, topics\, and issues affecting open source today. \nEarly bird registration (with a reduced fee) is possible between February 8th until July 6th 2023.
URL:https://www.geekersdigest.com/event/open-source-summit-europe-2024/
LOCATION:Austria Center Vienna\, Bruno-Kreisky-Platz 1\, Wien\, 1220\, Austria
CATEGORIES:Cloud,Conventions,Developers,DevOps,Linux,Open Source Software
ATTACH;FMTTYPE=image/png:https://www.geekersdigest.com/wp-content/uploads/2021/06/2183-ossummit.png
END:VEVENT
BEGIN:VEVENT
DTSTART;VALUE=DATE:20241119
DTEND;VALUE=DATE:20241122
DTSTAMP:20260422T013756
CREATED:20240223T075959Z
LAST-MODIFIED:20240223T075959Z
UID:3391-1731974400-1732233599@www.geekersdigest.com
SUMMARY:Open Source Monitoring Conference 2024
DESCRIPTION:The Open Source Monitoring Conference – OSMC – is the premier worldwide professional event focused on Open Source monitoring solutions. \n \nSince 2006 the annual meeting of leading international system engineers\, developers\, network engineers\, IT managers\, users and Open Source community members takes place every autumn in Nuremberg\, Germany. \nLeading specialists will present the full scope of Open Source monitoring and be ready to answer your hardest questions. Learn new techniques\, exchange knowledge and discuss with top developers. \nThe lecture program offers technical sessions\, case studies\, best practices as well as new approaches\, pioneering solutions and future perspectives. Additionally\, several in-depth workshops the day prior to the conference are featured. Participants will extend their skills and deepen their knowledge in IT monitoring and management. The last day of the conference is dedicated to a hackathon. Small groups of developers and users will collaborate on diverse projects. \nKeep up with the latest developments and trends in Open Source monitoring. Meet monitoring experts\, learn about new features and techniques and engage with the community to discuss and exchange views.
URL:https://www.geekersdigest.com/event/open-source-monitoring-conference-2024/
LOCATION:HolidayInn Nuremberg\, Engelhardsgasse 12\, Nuremberg\, 90402\, Germany
CATEGORIES:Commercial IT,Conventions,DevOps,Linux,Open Source Software,Security
ATTACH;FMTTYPE=image/png:https://www.geekersdigest.com/wp-content/uploads/2021/06/osmc.png
END:VEVENT
BEGIN:VEVENT
DTSTART;VALUE=DATE:20250201
DTEND;VALUE=DATE:20250203
DTSTAMP:20260422T013756
CREATED:20250102T062441Z
LAST-MODIFIED:20250102T062441Z
UID:3586-1738368000-1738540799@www.geekersdigest.com
SUMMARY:FOSDEM 2025
DESCRIPTION:FOSDEM is a two-day event organised by volunteers to promote the widespread use of free and open source software. \nUsually taking place in the beautiful city of Brussels (Belgium)\, FOSDEM is widely recognised as the best such conference in Europe. \n\nWhat is FOSDEM? \nFOSDEM is short for "Free Open Source Developers European Meeting". \nFOSDEM is a free and non-commercial event organized by the community for the community. The goal is to provide free and open source software developers and communities a place to meet to: \n\nget in touch with other developers and projects;\nbe informed about the latest developments in the free software world;\nbe informed about the latest developments in the open source world;\nattend interesting talks and presentations on various topics by project leaders and committers;\nto promote the development and benefits of free software and open source solutions.\n\nParticipation and attendance is totally free\, though the organizers gratefully accept donations and sponsorship.
URL:https://www.geekersdigest.com/event/fosdem-2025/
LOCATION:Université Libre de Bruxelles\, Avenue Franklin D. Roosevelt 50\, Bruxelles\, 1050\, Belgium
CATEGORIES:Conventions,Developers,DevOps,Linux,Open Source Software,Security
ATTACH;FMTTYPE=image/jpeg:https://www.geekersdigest.com/wp-content/uploads/2022/02/fosdem.jpeg
END:VEVENT
BEGIN:VEVENT
DTSTART;VALUE=DATE:20250401
DTEND;VALUE=DATE:20250405
DTSTAMP:20260422T013756
CREATED:20241207T072333Z
LAST-MODIFIED:20241207T072333Z
UID:3564-1743465600-1743811199@www.geekersdigest.com
SUMMARY:KubeCon Europe 2025
DESCRIPTION:The Cloud Native Computing Foundation’s flagship conference gathers adopters and technologists from leading open source and cloud native communities in London\, UK from 1-4 April\, 2025. \n \nJoin containerd\, CoreDNS\, Envoy\, etcd\, Fluentd\, Harbor\, Helm\, Jaeger\, Kubernetes\, Linkerd\, Open Policy Agent\, Prometheus\, Rook\, TiKV\, TUF\, Vitess\, Argo\, Backstage\, Buildpacks\, Chaos Mesh\, Cilium\, CloudEvents\, CNI\, Contour\, Cortex\, CRI-O\, Crossplane\, CubeFS\, dapr\, Dragonfly\, Emissary Ingress\, Falco\, Flagger\, Flux\, gRPC\, Hubble\, in-toto\, KEDA\, Keptn\, Knativec\, KubeEdge\, KubeVirt\, Kyverno\, Litmus\, Longhorn\, NATS\, Notary\, OpenMetrics\, OpenTelemetry\, Operator Framework\, SPIFFE\, SPIRE\, Tetragon\, Thanos\, and Volcano as the community gathers for five days to further the education and advancement of cloud native computing.
URL:https://www.geekersdigest.com/event/kubecon-europe-2025/
LOCATION:Excel London\, One Western Gateway\, Royal Victoria Dock\, London\, E16 1XL\, United Kingdom
CATEGORIES:Cloud,Commercial IT,Conventions,Developers,DevOps,Executives,Open Source Software
ATTACH;FMTTYPE=image/png:https://www.geekersdigest.com/wp-content/uploads/2021/06/kubecon.png
END:VEVENT
BEGIN:VEVENT
DTSTART;VALUE=DATE:20250725
DTEND;VALUE=DATE:20250726
DTSTAMP:20260422T013756
CREATED:20241207T070844Z
LAST-MODIFIED:20241210T131736Z
UID:3560-1753401600-1753487999@www.geekersdigest.com
SUMMARY:SysAdminDay 2025
DESCRIPTION:System Administrator Appreciation Day\, also known as Sysadmin Day\, SysAdminDay\, is an annual event. The event exists to show appreciation for the work of sysadmins and other IT workers. It is celebrated on the last Friday in July. \nThe work of System Administrators is often underestimated – because it is not "seen". Only during outages and other problems end-users become aware of the importance of the systems\, managed by System Administrators\, Operators\, Engineers and Developers.
URL:https://www.geekersdigest.com/event/sysadminday-2025/
LOCATION:Virtual
CATEGORIES:DevOps,Linux,Open Source Software
END:VEVENT
BEGIN:VEVENT
DTSTART;VALUE=DATE:20250922
DTEND;VALUE=DATE:20250925
DTSTAMP:20260422T013756
CREATED:20250110T155613Z
LAST-MODIFIED:20250110T155613Z
UID:3606-1758499200-1758758399@www.geekersdigest.com
SUMMARY:Kernel Recipes 2025
DESCRIPTION:Informal conference about the Linux kernel. \n \nThe main goal of Kernel Recipes was to create a yearly meeting in France and give the opportunity to meet the guys involved in kernel.org.  \nThe max number of expected people is about 150. There is no main line for the talks but rather quite an open one: current burning topics\, future of Linux kernel development\, project organization\, security\, relations with other free software projects\, relations with hardware manufacturers.  \nAll talks are organized in a single room so that people do not have to choose what talks they should attend. Priority is given to pedagogy and exchanges between attendees and speakers.  \nA lunch is offered for each day so that people can discuss some more and we use to have social events at the end of each days.
URL:https://www.geekersdigest.com/event/kernel-recipes-2025/
LOCATION:Cité Internationale Universitaire de Paris\, 9 A Bd Jourdan\, Paris\, 75014\, France
CATEGORIES:Conventions,Developers,Linux,Open Source Software
ATTACH;FMTTYPE=image/jpeg:https://www.geekersdigest.com/wp-content/uploads/2025/01/kernel-recipe-logo.jpg
END:VEVENT
END:VCALENDAR