BEGIN:VCALENDAR
VERSION:2.0
PRODID:-//Geeker&#039;s Digest - ECPv6.15.17.1//NONSGML v1.0//EN
CALSCALE:GREGORIAN
METHOD:PUBLISH
X-WR-CALNAME:Geeker&#039;s Digest
X-ORIGINAL-URL:https://www.geekersdigest.com
X-WR-CALDESC:Events for Geeker&#039;s Digest
REFRESH-INTERVAL;VALUE=DURATION:PT1H
X-Robots-Tag:noindex
X-PUBLISHED-TTL:PT1H
BEGIN:VTIMEZONE
TZID:UTC
BEGIN:STANDARD
TZOFFSETFROM:+0000
TZOFFSETTO:+0000
TZNAME:UTC
DTSTART:20230101T000000
END:STANDARD
END:VTIMEZONE
BEGIN:VEVENT
DTSTART;VALUE=DATE:20241119
DTEND;VALUE=DATE:20241122
DTSTAMP:20260421T030133
CREATED:20240223T075959Z
LAST-MODIFIED:20240223T075959Z
UID:3391-1731974400-1732233599@www.geekersdigest.com
SUMMARY:Open Source Monitoring Conference 2024
DESCRIPTION:The Open Source Monitoring Conference – OSMC – is the premier worldwide professional event focused on Open Source monitoring solutions. \n \nSince 2006 the annual meeting of leading international system engineers\, developers\, network engineers\, IT managers\, users and Open Source community members takes place every autumn in Nuremberg\, Germany. \nLeading specialists will present the full scope of Open Source monitoring and be ready to answer your hardest questions. Learn new techniques\, exchange knowledge and discuss with top developers. \nThe lecture program offers technical sessions\, case studies\, best practices as well as new approaches\, pioneering solutions and future perspectives. Additionally\, several in-depth workshops the day prior to the conference are featured. Participants will extend their skills and deepen their knowledge in IT monitoring and management. The last day of the conference is dedicated to a hackathon. Small groups of developers and users will collaborate on diverse projects. \nKeep up with the latest developments and trends in Open Source monitoring. Meet monitoring experts\, learn about new features and techniques and engage with the community to discuss and exchange views.
URL:https://www.geekersdigest.com/event/open-source-monitoring-conference-2024/
LOCATION:HolidayInn Nuremberg\, Engelhardsgasse 12\, Nuremberg\, 90402\, Germany
CATEGORIES:Commercial IT,Conventions,DevOps,Linux,Open Source Software,Security
ATTACH;FMTTYPE=image/png:https://www.geekersdigest.com/wp-content/uploads/2021/06/osmc.png
END:VEVENT
BEGIN:VEVENT
DTSTART;VALUE=DATE:20250201
DTEND;VALUE=DATE:20250203
DTSTAMP:20260421T030133
CREATED:20250102T062441Z
LAST-MODIFIED:20250102T062441Z
UID:3586-1738368000-1738540799@www.geekersdigest.com
SUMMARY:FOSDEM 2025
DESCRIPTION:FOSDEM is a two-day event organised by volunteers to promote the widespread use of free and open source software. \nUsually taking place in the beautiful city of Brussels (Belgium)\, FOSDEM is widely recognised as the best such conference in Europe. \n\nWhat is FOSDEM? \nFOSDEM is short for "Free Open Source Developers European Meeting". \nFOSDEM is a free and non-commercial event organized by the community for the community. The goal is to provide free and open source software developers and communities a place to meet to: \n\nget in touch with other developers and projects;\nbe informed about the latest developments in the free software world;\nbe informed about the latest developments in the open source world;\nattend interesting talks and presentations on various topics by project leaders and committers;\nto promote the development and benefits of free software and open source solutions.\n\nParticipation and attendance is totally free\, though the organizers gratefully accept donations and sponsorship.
URL:https://www.geekersdigest.com/event/fosdem-2025/
LOCATION:Université Libre de Bruxelles\, Avenue Franklin D. Roosevelt 50\, Bruxelles\, 1050\, Belgium
CATEGORIES:Conventions,Developers,DevOps,Linux,Open Source Software,Security
ATTACH;FMTTYPE=image/jpeg:https://www.geekersdigest.com/wp-content/uploads/2022/02/fosdem.jpeg
END:VEVENT
BEGIN:VEVENT
DTSTART;VALUE=DATE:20250401
DTEND;VALUE=DATE:20250405
DTSTAMP:20260421T030133
CREATED:20241207T072333Z
LAST-MODIFIED:20241207T072333Z
UID:3564-1743465600-1743811199@www.geekersdigest.com
SUMMARY:KubeCon Europe 2025
DESCRIPTION:The Cloud Native Computing Foundation’s flagship conference gathers adopters and technologists from leading open source and cloud native communities in London\, UK from 1-4 April\, 2025. \n \nJoin containerd\, CoreDNS\, Envoy\, etcd\, Fluentd\, Harbor\, Helm\, Jaeger\, Kubernetes\, Linkerd\, Open Policy Agent\, Prometheus\, Rook\, TiKV\, TUF\, Vitess\, Argo\, Backstage\, Buildpacks\, Chaos Mesh\, Cilium\, CloudEvents\, CNI\, Contour\, Cortex\, CRI-O\, Crossplane\, CubeFS\, dapr\, Dragonfly\, Emissary Ingress\, Falco\, Flagger\, Flux\, gRPC\, Hubble\, in-toto\, KEDA\, Keptn\, Knativec\, KubeEdge\, KubeVirt\, Kyverno\, Litmus\, Longhorn\, NATS\, Notary\, OpenMetrics\, OpenTelemetry\, Operator Framework\, SPIFFE\, SPIRE\, Tetragon\, Thanos\, and Volcano as the community gathers for five days to further the education and advancement of cloud native computing.
URL:https://www.geekersdigest.com/event/kubecon-europe-2025/
LOCATION:Excel London\, One Western Gateway\, Royal Victoria Dock\, London\, E16 1XL\, United Kingdom
CATEGORIES:Cloud,Commercial IT,Conventions,Developers,DevOps,Executives,Open Source Software
ATTACH;FMTTYPE=image/png:https://www.geekersdigest.com/wp-content/uploads/2021/06/kubecon.png
END:VEVENT
BEGIN:VEVENT
DTSTART;VALUE=DATE:20250725
DTEND;VALUE=DATE:20250726
DTSTAMP:20260421T030133
CREATED:20241207T070844Z
LAST-MODIFIED:20241210T131736Z
UID:3560-1753401600-1753487999@www.geekersdigest.com
SUMMARY:SysAdminDay 2025
DESCRIPTION:System Administrator Appreciation Day\, also known as Sysadmin Day\, SysAdminDay\, is an annual event. The event exists to show appreciation for the work of sysadmins and other IT workers. It is celebrated on the last Friday in July. \nThe work of System Administrators is often underestimated – because it is not "seen". Only during outages and other problems end-users become aware of the importance of the systems\, managed by System Administrators\, Operators\, Engineers and Developers.
URL:https://www.geekersdigest.com/event/sysadminday-2025/
LOCATION:Virtual
CATEGORIES:DevOps,Linux,Open Source Software
END:VEVENT
BEGIN:VEVENT
DTSTART;VALUE=DATE:20250922
DTEND;VALUE=DATE:20250925
DTSTAMP:20260421T030133
CREATED:20250110T155613Z
LAST-MODIFIED:20250110T155613Z
UID:3606-1758499200-1758758399@www.geekersdigest.com
SUMMARY:Kernel Recipes 2025
DESCRIPTION:Informal conference about the Linux kernel. \n \nThe main goal of Kernel Recipes was to create a yearly meeting in France and give the opportunity to meet the guys involved in kernel.org.  \nThe max number of expected people is about 150. There is no main line for the talks but rather quite an open one: current burning topics\, future of Linux kernel development\, project organization\, security\, relations with other free software projects\, relations with hardware manufacturers.  \nAll talks are organized in a single room so that people do not have to choose what talks they should attend. Priority is given to pedagogy and exchanges between attendees and speakers.  \nA lunch is offered for each day so that people can discuss some more and we use to have social events at the end of each days.
URL:https://www.geekersdigest.com/event/kernel-recipes-2025/
LOCATION:Cité Internationale Universitaire de Paris\, 9 A Bd Jourdan\, Paris\, 75014\, France
CATEGORIES:Conventions,Developers,Linux,Open Source Software
ATTACH;FMTTYPE=image/jpeg:https://www.geekersdigest.com/wp-content/uploads/2025/01/kernel-recipe-logo.jpg
END:VEVENT
END:VCALENDAR